BEGIN:VCALENDAR
VERSION:2.0
PRODID:-//ChamberMaster//Event Calendar 2.0//EN
METHOD:PUBLISH
X-PUBLISHED-TTL:P3D
REFRESH-INTERVAL:P3D
CALSCALE:GREGORIAN
BEGIN:VEVENT
DTSTART;VALUE=DATE:20140910
DTEND;VALUE=DATE:20140915
TRANSP:TRANSPARENT
X-MICROSOFT-CDO-ALLDAYEVENT:TRUE
SUMMARY:The Prim Barn/Autumn Gathering
DESCRIPTION:The Prim Barn/Autumn Gathering Occasional Market Event Sept 10-14\, 2014 held Wed & Thurs 1 to 7 & Fri - Sun 9 to 5...featuring Vintage\, Junk Market\, Old & New Decor\, Primitives\, Farm Fresh Finds & Garden Art. Held for 5 days only. www.theprimbarn.com for details also find us on facebook\, pintrest & twitter
X-ALT-DESC;FMTTYPE=text/html:The Prim Barn/Autumn Gathering Occasional Market Event Sept 10-14\, 2014 held Wed &amp\; Thurs 1 to 7 &amp\; Fri - Sun 9 to 5...featuring Vintage\, Junk Market\, Old &amp\; New Decor\, Primitives\, Farm Fresh Finds &amp\; Garden Art. Held for 5 days only. www.theprimbarn.com for details also find us on facebook\, pintrest &amp\; twitter
LOCATION:37183 County Road 3 Lake City\, MN 55041 11 miles south on hwy 63\, right on Co Rd 3
UID:e.621.4030
SEQUENCE:3
DTSTAMP:20260425T124641Z
URL:https://public.lakecity.org/events/details/the-prim-barn-autumn-gathering-09-10-2014-4030
END:VEVENT

END:VCALENDAR
