BEGIN:VCALENDAR
VERSION:2.0
PRODID:-//ChamberMaster//Event Calendar 2.0//EN
METHOD:PUBLISH
X-PUBLISHED-TTL:P3D
REFRESH-INTERVAL:P3D
CALSCALE:GREGORIAN
BEGIN:VEVENT
DTSTART:20150506T150000Z
DTEND:20150510T220000Z
X-MICROSOFT-CDO-ALLDAYEVENT:FALSE
SUMMARY:The Prim Barn Spring Fling
DESCRIPTION:Take a short trip to the country and shop on the farm in our big red barn filled with primitives\, vintage finds\, home decor\, antiques\, garden art\, farmhouse favorites\, junk market\, handmade\, seasonal and lots more! Only 11 miles South of Lake City\, just off Hwy 63. We are an Occasional Market open five days only! Check us out on Facebook\, Pinterest\, Twitter and our website.
X-ALT-DESC;FMTTYPE=text/html:Take a short trip to the country and shop on the farm in our big red barn filled with primitives\, vintage finds\, home decor\, antiques\, garden art\, farmhouse favorites\, junk market\, handmade\, seasonal and lots more! Only 11 miles South of Lake City\, just off Hwy 63. We are an Occasional Market open five days only! Check us out on Facebook\, Pinterest\, Twitter and our website.
LOCATION:The Prim Barn 37183 County Road 3 Lake City\, MN 55041
UID:e.621.4322
SEQUENCE:3
DTSTAMP:20260425T002531Z
URL:https://public.lakecity.org/events/details/the-prim-barn-spring-fling-05-06-2015-4322
END:VEVENT

END:VCALENDAR
