BEGIN:VCALENDAR
VERSION:2.0
PRODID:-//ChamberMaster//Event Calendar 2.0//EN
METHOD:PUBLISH
X-PUBLISHED-TTL:P3D
REFRESH-INTERVAL:P3D
CALSCALE:GREGORIAN
BEGIN:VEVENT
DTSTART;VALUE=DATE:20140507
DTEND;VALUE=DATE:20140512
TRANSP:TRANSPARENT
X-MICROSOFT-CDO-ALLDAYEVENT:TRUE
SUMMARY:The Prim Barn/Spring Fling
DESCRIPTION:The Prim Barn Occasional Market is having their huge spring barn event.... May 7-11. Open Wed & Thurs 1 to 7 & Fri - Sun 9 to 5 offering Primitives\, Garden Art\, Vintage\, Junk Market\, Farm Fresh Finds\, Antiques and so much more! You won't want to miss it!
X-ALT-DESC;FMTTYPE=text/html:The Prim Barn Occasional Market is having their huge spring barn event.... May 7-11. Open Wed &amp\; Thurs 1 to 7 &amp\; Fri - Sun 9 to 5 offering Primitives\, Garden Art\, Vintage\, Junk Market\, Farm Fresh Finds\, Antiques and so much more! You won&#39\;t want to miss it!
LOCATION:37183 County Road 3 Lake City\, MN 55041 just 11 miles S on Hwy 63 watch for our old truck and signs
UID:e.621.3431
SEQUENCE:3
DTSTAMP:20260425T191647Z
URL:https://public.lakecity.org/events/details/the-prim-barn-spring-fling-05-07-2014-3431
END:VEVENT

END:VCALENDAR
