BEGIN:VCALENDAR
VERSION:2.0
PRODID:-//ChamberMaster//Event Calendar 2.0//EN
METHOD:PUBLISH
X-PUBLISHED-TTL:P3D
REFRESH-INTERVAL:P3D
CALSCALE:GREGORIAN
BEGIN:VEVENT
DTSTART:20140314T000000Z
DTEND:20140314T020000Z
X-MICROSOFT-CDO-ALLDAYEVENT:FALSE
SUMMARY:The Sea Wing Disaster
DESCRIPTION:Fred L. Johnson\, a Red Wing native and author of the only book written about the Sea Wing disaster\, will speak about the 1890 event\, with emphasis on the Lake City aspects of the tragedy. Co-sponsoring the lecture are the Lake City Historical Society\, Wabasha County Historical Society\, Lake City Friends of the Library\, and the Woman's Club of Lake City.
X-ALT-DESC;FMTTYPE=text/html:Fred L. Johnson\, a Red Wing native and author of the only book written about the Sea Wing disaster\, will speak about the 1890 event\, with emphasis on the Lake City aspects of the tragedy. Co-sponsoring the lecture are the Lake City Historical Society\, Wabasha County Historical Society\, Lake City Friends of the Library\, and the Woman&#39\;s Club of Lake City.
LOCATION:Ballroom\, Lake City City Hall
UID:e.621.3574
SEQUENCE:3
DTSTAMP:20260425T223139Z
URL:https://public.lakecity.org/events/details/the-sea-wing-disaster-03-13-2014-3574
END:VEVENT

END:VCALENDAR
