BEGIN:VCALENDAR
VERSION:2.0
PRODID:-//ChamberMaster//Event Calendar 2.0//EN
METHOD:PUBLISH
X-PUBLISHED-TTL:P3D
REFRESH-INTERVAL:P3D
CALSCALE:GREGORIAN
BEGIN:VEVENT
DTSTART:20140914T190000Z
DTEND:20140914T210000Z
X-MICROSOFT-CDO-ALLDAYEVENT:FALSE
SUMMARY:The Sea Wing Disaster of 1890
DESCRIPTION:Wabasha County Historical Society presents\n\nThe Sea Wing Disaster of 1890\n\nA presentation about the catastrophe that killed 98 people on Lake Pepin.\n\nFred Johnson: Author of historical volume & Ben Thrienen: Videographer of DVD
X-ALT-DESC;FMTTYPE=text/html:Wabasha County Historical Society presents<br />\nThe Sea Wing Disaster of 1890<br />\nA presentation about the catastrophe that killed 98 people on Lake Pepin.<br />\nFred Johnson: Author of historical volume &amp\; Ben Thrienen: Videographer of DVD
LOCATION:Wabasha County Historical Society in Reads Landing\, MN
UID:e.621.4289
SEQUENCE:3
DTSTAMP:20260425T143052Z
URL:https://public.lakecity.org/events/details/the-sea-wing-disaster-of-1890-09-14-2014-4289
END:VEVENT

END:VCALENDAR
