BEGIN:VCALENDAR
VERSION:2.0
PRODID:-//ChamberMaster//Event Calendar 2.0//EN
METHOD:PUBLISH
X-PUBLISHED-TTL:P3D
REFRESH-INTERVAL:P3D
CALSCALE:GREGORIAN
BEGIN:VEVENT
DTSTART:20180308T000000Z
DTEND:20180308T013000Z
X-MICROSOFT-CDO-ALLDAYEVENT:FALSE
SUMMARY:The War on Science
DESCRIPTION:Novelist\, nonfiction writer\, filmmaker\, screen writer\, political strategist\, and science advocate Shawn Otto will be at the Lake City Public Library to discuss his latest book The War on Science: who's waging it\, why it matters\, and what we can do about it.
X-ALT-DESC;FMTTYPE=text/html:Novelist\, nonfiction writer\, filmmaker\, screen writer\, political strategist\, and science advocate Shawn Otto will be at the Lake City Public Library to discuss his latest book The War on Science: who&#39\;s waging it\, why it matters\, and what we can do about it.
LOCATION:Lake City Public Library
UID:e.621.6837
SEQUENCE:3
DTSTAMP:20260421T082741Z
URL:https://public.lakecity.org/events/details/the-war-on-science-6837
END:VEVENT

END:VCALENDAR
