BEGIN:VCALENDAR
VERSION:2.0
PRODID:-//ChamberMaster//Event Calendar 2.0//EN
METHOD:PUBLISH
X-PUBLISHED-TTL:P3D
REFRESH-INTERVAL:P3D
CALSCALE:GREGORIAN
BEGIN:VEVENT
DTSTART:20171209T010000Z
DTEND:20171209T023000Z
X-MICROSOFT-CDO-ALLDAYEVENT:FALSE
SUMMARY:This is Christmas
DESCRIPTION:Valley View Church presents . \n\n"This is Christmas" Friday\, December 8th at 7 pm and Saturday\, December 9th at 6 pm\n\nWe got the idea to format this Christmas Special like one of the old Andy Williams or Bing Crosby's Christmas Specials\, some songs\, short sketches and some humor. Remember those?   You always felt so good watching them. The reason we really wanted to bring that back is twofold.   Yes\, we love to celebrate Christmas\, but this world needs to know it is so much more to a believer. To a believer\, there's no such thing as X-mas\; there can be no Christmas without Christ!  Please join us as we share: "THIS IS CHRISTMAS" \n\n \n\nFor more information call the church office at 651-345-3432 Monday through Friday 9 am to 1 pm.    This event is free\, doors will be open at least 30 minutes before the performance for seating.  Valley View Assembly of God Church is located at 305 West Grant Street\, Lake City\, one block from the Medical Center on Goodhue County 5.
X-ALT-DESC;FMTTYPE=text/html:<span style="font-size:12pt"><span style="font-family:arial\,sans-serif">Valley View Church presents&hellip\;. </span></span><br />\n<strong><span style="font-size:12pt"><span style="font-family:arial\,sans-serif">&quot\;This is Christmas&quot\;</span></span></strong><span style="font-size:12pt"><span style="font-family:arial\,sans-serif"> <strong>Friday\, December 8<sup>th</sup> at 7 pm and Saturday\, December 9<sup>th</sup> at 6 pm</strong></span></span><br />\n<span style="font-size:12pt"><span style="font-family:arial\,sans-serif">We got the idea to format this <em>Christmas Special</em> like one of the old Andy Williams or Bing Crosby&#39\;s Christmas Specials\, some songs\, short sketches and some humor.&nbsp\;Remember those? &nbsp\;&nbsp\;You always felt so good watching them. The reason we really wanted to bring that back is twofold.&nbsp\; &nbsp\;Yes\, we love to celebrate Christmas\, but this world needs to know it is so much more to a believer. To a believer\, there&#39\;s no such thing as&nbsp\;X-mas\; there can be no Christmas without Christ!&nbsp\; </span></span><span style="font-size:12pt"><span style="font-family:arial\,sans-serif">Please join us as we share: <strong>&quot\;THIS IS CHRISTMAS&quot\;</strong> </span></span><br />\n&nbsp\;<br />\n<span style="font-size:12pt"><span style="font-family:arial\,sans-serif">For more information call the church office at 651-345-3432 Monday through Friday 9 am to 1 pm.&nbsp\;&nbsp\;&nbsp\; This event is free\, doors will be open at least 30 minutes before the performance for seating.&nbsp\; Valley View Assembly of God Church is located at 305 West Grant Street\, Lake City\, one block from the Medical Center on Goodhue County 5.</span></span><br />\n&nbsp\;
LOCATION:
UID:e.621.6794
SEQUENCE:3
DTSTAMP:20260421T133754Z
URL:https://public.lakecity.org/events/details/this-is-christmas-6794
END:VEVENT

END:VCALENDAR
