BEGIN:VCALENDAR
VERSION:2.0
PRODID:-//ChamberMaster//Event Calendar 2.0//EN
METHOD:PUBLISH
X-PUBLISHED-TTL:P3D
REFRESH-INTERVAL:P3D
CALSCALE:GREGORIAN
BEGIN:VEVENT
DTSTART:20140807T230000Z
DTEND:20140808T010000Z
X-MICROSOFT-CDO-ALLDAYEVENT:FALSE
SUMMARY:Thursday Night Farmer's Market
DESCRIPTION:Lake City Farmer's Market 2014\, along the banks of the Mississippi and beautiful Lake Pepin.  Come one\, come all!  Bring your family\, friends\, and cameras.  Enjoy the beauty\, the music\, and the wares of local merchants and growers.  Music tonight by John Hiseox - Bluegrass
X-ALT-DESC;FMTTYPE=text/html:Lake City Farmer&#39\;s Market 2014\, along the banks of the Mississippi and beautiful Lake Pepin. &nbsp\;Come one\, come all! &nbsp\;Bring your family\, friends\, and cameras. &nbsp\;Enjoy the beauty\, the music\, and the wares of local merchants and growers. &nbsp\;Music tonight by John Hiseox - Bluegrass
LOCATION:At the Ohuta Park swimming beach parking lot.
UID:e.621.4252
SEQUENCE:3
DTSTAMP:20260425T142641Z
URL:https://public.lakecity.org/events/details/thursday-night-farmer-s-market-08-07-2014-4252
END:VEVENT

END:VCALENDAR
