BEGIN:VCALENDAR
VERSION:2.0
PRODID:-//ChamberMaster//Event Calendar 2.0//EN
METHOD:PUBLISH
X-PUBLISHED-TTL:P3D
REFRESH-INTERVAL:P3D
CALSCALE:GREGORIAN
BEGIN:VEVENT
DTSTART:20170622T223000Z
DTEND:20170908T010000Z
X-MICROSOFT-CDO-ALLDAYEVENT:FALSE
SUMMARY:Thursday Night Farmers Market
DESCRIPTION:
X-ALT-DESC;FMTTYPE=text/html:
LOCATION:
UID:e.621.5727
SEQUENCE:3
DTSTAMP:20260421T183708Z
URL:https://public.lakecity.org/events/details/thursday-night-farmers-market-5727
END:VEVENT

END:VCALENDAR
