BEGIN:VCALENDAR
VERSION:2.0
PRODID:-//ChamberMaster//Event Calendar 2.0//EN
METHOD:PUBLISH
X-PUBLISHED-TTL:P3D
REFRESH-INTERVAL:P3D
CALSCALE:GREGORIAN
BEGIN:VEVENT
DTSTART;VALUE=DATE:20150606
DTEND;VALUE=DATE:20150607
TRANSP:TRANSPARENT
X-MICROSOFT-CDO-ALLDAYEVENT:TRUE
SUMMARY:Tour de Pepin
DESCRIPTION:Bicycle & Paddleboat tour of Lake Pepin with 4 touring options--32 mile\, 50 mile\, 72\, and 100 mile routes.
X-ALT-DESC;FMTTYPE=text/html:Bicycle &amp\; Paddleboat tour of Lake Pepin with&nbsp\;4 touring options--32 mile\, 50 mile\, 72\, and 100&nbsp\;mile routes.
LOCATION:Around Lake Pepin
UID:e.621.2955
SEQUENCE:3
DTSTAMP:20260424T225359Z
URL:https://public.lakecity.org/events/details/tour-de-pepin-06-06-2015-2955
END:VEVENT

END:VCALENDAR
