BEGIN:VCALENDAR
VERSION:2.0
PRODID:-//ChamberMaster//Event Calendar 2.0//EN
METHOD:PUBLISH
X-PUBLISHED-TTL:P3D
REFRESH-INTERVAL:P3D
CALSCALE:GREGORIAN
BEGIN:VEVENT
DTSTART:20151031T230000Z
DTEND:20151101T010000Z
X-MICROSOFT-CDO-ALLDAYEVENT:FALSE
SUMMARY:Trick or Treat on Washington Street
DESCRIPTION:Parents can bring their children to Washington Street where participating businesses\, many in costume\, will be giving out treats.
X-ALT-DESC;FMTTYPE=text/html:Parents can bring their children to Washington Street where participating businesses\, many in costume\, will be giving out treats.
LOCATION:3 Blocks of Washington Street in downtown Lake City
UID:e.621.2973
SEQUENCE:3
DTSTAMP:20260424T165900Z
URL:https://public.lakecity.org/events/details/trick-or-treat-on-washington-street-10-31-2015-2973
END:VEVENT

END:VCALENDAR
