BEGIN:VCALENDAR
VERSION:2.0
PRODID:-//ChamberMaster//Event Calendar 2.0//EN
METHOD:PUBLISH
X-PUBLISHED-TTL:P3D
REFRESH-INTERVAL:P3D
CALSCALE:GREGORIAN
BEGIN:VEVENT
DTSTART:20171031T220000Z
DTEND:20171101T000000Z
X-MICROSOFT-CDO-ALLDAYEVENT:FALSE
SUMMARY:Trick or Treat on Washington Street
DESCRIPTION:Bring the family down to Trick or Treat on Washington Street with area businesses in downtown Lake City.
X-ALT-DESC;FMTTYPE=text/html:Bring the family down to Trick or Treat on Washington Street with area businesses in downtown Lake City.
LOCATION:Washington Street in Lake City
UID:e.621.6784
SEQUENCE:3
DTSTAMP:20260421T170602Z
URL:https://public.lakecity.org/events/details/trick-or-treat-on-washington-street-6784
END:VEVENT

END:VCALENDAR
