BEGIN:VCALENDAR
VERSION:2.0
PRODID:-//ChamberMaster//Event Calendar 2.0//EN
METHOD:PUBLISH
X-PUBLISHED-TTL:P3D
REFRESH-INTERVAL:P3D
CALSCALE:GREGORIAN
BEGIN:VEVENT
DTSTART:20150816T200000Z
DTEND:20150816T220000Z
X-MICROSOFT-CDO-ALLDAYEVENT:FALSE
SUMMARY:Turkey River All Stars
DESCRIPTION:Turkey River All Stars Concert presented by the Lake City Woman's Club
X-ALT-DESC;FMTTYPE=text/html:Turkey River All Stars Concert presented by the Lake City Woman&#39\;s Club
LOCATION:Patton Park In case of bad weather concert will be held at 1st Congregational Church
UID:e.621.4487
SEQUENCE:3
DTSTAMP:20260424T200620Z
URL:https://public.lakecity.org/events/details/turkey-river-all-stars-08-16-2015-4487
END:VEVENT

END:VCALENDAR
