BEGIN:VCALENDAR
VERSION:2.0
PRODID:-//ChamberMaster//Event Calendar 2.0//EN
METHOD:PUBLISH
X-PUBLISHED-TTL:P3D
REFRESH-INTERVAL:P3D
CALSCALE:GREGORIAN
BEGIN:VEVENT
DTSTART:20160610T180000Z
DTEND:20160611T010000Z
X-MICROSOFT-CDO-ALLDAYEVENT:FALSE
SUMMARY:Twenty-Fifth Annual Great River Homes\, Inc. Benefit Golf Tournament and Dinner
DESCRIPTION:Great River Homes\, Inc. is a non-profit organization that provides residential and in-home services to people with disabilities in Wabasha County. Proceeds from the tournament will benefit people who receive our services.
X-ALT-DESC;FMTTYPE=text/html:Great River Homes\, Inc. is a non-profit organization that provides residential and in-home services to people with disabilities in Wabasha County. Proceeds from the tournament will benefit people who receive our services.
LOCATION:Lake Pepin Golf Course 70895 260th Avenue Lake City\, MN
UID:e.621.5231
SEQUENCE:3
DTSTAMP:20260422T183115Z
URL:https://public.lakecity.org/events/details/twenty-fifth-annual-great-river-homes-inc-benefit-golf-tournament-and-dinner-06-10-2016-5231
END:VEVENT

END:VCALENDAR
