BEGIN:VCALENDAR
VERSION:2.0
PRODID:-//ChamberMaster//Event Calendar 2.0//EN
METHOD:PUBLISH
X-PUBLISHED-TTL:P3D
REFRESH-INTERVAL:P3D
CALSCALE:GREGORIAN
BEGIN:VEVENT
DTSTART:20150416T133000Z
DTEND:20150416T143000Z
X-MICROSOFT-CDO-ALLDAYEVENT:FALSE
SUMMARY:U of M: Retail Merchandising Seminar
DESCRIPTION:Join us for an amazing Retail Merchandising Seminar with Hyunjoo Im\, Ph.D. from the University of Minnesota.\n\n \n\nThe seminar will focus on:\n\n\n	Psychology of shoppers.\n	Effective retail layout.\n	Review recent research from the U of M's Retail Merchandising dept.\n\nAt the end of the presentation\, Hyunjoo Im will be available for a Q&A session.\n\n \n\nThis seminar is free for Chamber member\, and $25.00 for non-Chamber members.\n\n  \n\nPlease help spread the word by forwarding this link to anyone you think might be interested.\n\n\n\nClick to register!!
X-ALT-DESC;FMTTYPE=text/html:<span style="font-size: medium\;"><span style="font-family: calibri\;">Join us for an amazing Retail Merchandising Seminar with Hyunjoo Im\, Ph.D. from the University of Minnesota.</span></span><br />\n&nbsp\;<br />\n<span style="font-size: medium\;"><span style="font-family: calibri\;">The seminar will focus on:</span></span>\n\n<ul>\n	<li><span style="font-size: medium\;"><span style="font-family: calibri\;"><span style="font-size: medium\;"><span style="font-family: calibri\;">Psychology of shoppers.</span></span></span></span></li>\n	<li><span style="font-size: medium\;"><span style="font-family: calibri\;"><span style="font-size: medium\;"><span style="font-family: calibri\;">Effective retail layout.</span></span></span></span></li>\n	<li><span style="font-size: medium\;"><span style="font-family: calibri\;"><span style="font-size: medium\;"><span style="font-family: calibri\;"><span style="font-size: medium\;"><span style="font-family: calibri\;">Review recent research from the U of M&#39\;s Retail Merchandising dept.</span></span></span></span></span></span></li>\n</ul>\n<span style="font-size: medium\;"><span style="font-family: calibri\;">At the end of the presentation\, Hyunjoo Im will be available for a Q&amp\;A session.</span></span><br />\n&nbsp\;<br />\n<span style="font-size: medium\;"><span style="font-family: calibri\;">This seminar&nbsp\;is free&nbsp\;for Chamber member\, and $25.00 for non-Chamber members.</span></span><br />\n&nbsp\;&nbsp\;<br />\n<span style="font-size: medium\;"><span style="font-family: calibri\;">Please help&nbsp\;spread the word by forwarding this link&nbsp\;to anyone you think might be interested.<br />\n<br />\nClick to register!!</span></span><br />\n&nbsp\;
LOCATION:
UID:e.621.4414
SEQUENCE:3
DTSTAMP:20260425T020119Z
URL:https://public.lakecity.org/events/details/u-of-m-retail-merchandising-seminar-04-16-2015-4414
END:VEVENT

END:VCALENDAR
