BEGIN:VCALENDAR
VERSION:2.0
PRODID:-//ChamberMaster//Event Calendar 2.0//EN
METHOD:PUBLISH
X-PUBLISHED-TTL:P3D
REFRESH-INTERVAL:P3D
CALSCALE:GREGORIAN
BEGIN:VEVENT
DTSTART:20140728T000000Z
DTEND:20140731T013000Z
X-MICROSOFT-CDO-ALLDAYEVENT:FALSE
SUMMARY:Valley View Assembly of God Kid's Crusade
DESCRIPTION:Kingdom Quest is the official theme of Kid's Crusade this year! The amazing Adam Schmidgall will be our special guest. Adam will be amazing our kids with illusions\, juggling\, ventriloquism\, clowning\, ballooning\, stilts\, characters\, and teaching!! Our annual Kid's Crusade will begin on Sunday\, July 27th from 7:00pm -8:30pm and continue each night ending with Parent's night on Wednesday\, July 30th. Children 5 years and younger MUST be accompanied by an adult. Children ages 3 through last year's 6th graders register for prizes. Free will offering will be received. For more information call the church office at 651-345-3432 or email valleyviewkidscrusade@gmail.com. The whole family is always welcome!!
X-ALT-DESC;FMTTYPE=text/html:Kingdom Quest is the official theme of Kid&#39\;s Crusade this year! The amazing Adam Schmidgall will be our special guest. Adam will be amazing our kids with illusions\, juggling\, ventriloquism\, clowning\, ballooning\, stilts\, characters\, and teaching!! Our annual Kid&#39\;s Crusade will begin on Sunday\, July 27th from 7:00pm -8:30pm and continue each night ending with Parent&#39\;s night on Wednesday\, July 30th. Children 5 years and younger MUST be accompanied by an adult. Children ages 3 through last year&#39\;s 6th graders register for prizes. Free will offering will be received. For more information call the church office at 651-345-3432 or email valleyviewkidscrusade@gmail.com. The whole family is always welcome!!
LOCATION:Valley View Assembly of God Church 305 W Grant Street\, Lake City\, MN 55041
UID:e.621.4041
SEQUENCE:3
DTSTAMP:20260425T161445Z
URL:https://public.lakecity.org/events/details/valley-view-assembly-of-god-kid-s-crusade-07-27-2014-4041
END:VEVENT

END:VCALENDAR
