BEGIN:VCALENDAR
VERSION:2.0
PRODID:-//ChamberMaster//Event Calendar 2.0//EN
METHOD:PUBLISH
X-PUBLISHED-TTL:P3D
REFRESH-INTERVAL:P3D
CALSCALE:GREGORIAN
BEGIN:VEVENT
DTSTART:20150716T000000Z
DTEND:20150716T013000Z
X-MICROSOFT-CDO-ALLDAYEVENT:FALSE
SUMMARY:Valley View Kid's Crusade
DESCRIPTION:Kid's Crusade in Lake City starts Sunday July 12th    \n\nThe entire family is invited to 4 fun filled evenings at the annual Kid's Crusade at Valley View Assembly of God church in Lake City starting Sunday July 12th at 7 PM.  Brian and Vicki Cockerham of 2Talk42 Ministries from West Monroe\, LA will share the gospel through ventriloquism\, puppets\, characters\, and music.  Each night will include a new program\, door prizes donated from local businesses and treats.  Kids\, age three through last year's 6th grade register for door prizes. Families are encouraged to attend with their children\; and children age 5 and under must be accompanied by an adult. A free will offering will be received. \n\nDon't miss one night of inspirational fun beginning \n\nSunday\, July 12th through Wednesday\, July 15thth from 7:00   8:30 PM \n\nat the Valley View Assembly of God Church\n\n         305 W. Grant St. (Goodhue Co. 5)\, Lake City\, MN\n\nOne block from the Lake City Medical Center\n\nThe Crusade is fun and it's free!\n\n         For more information call the church office at 651-345-3432 or email valleyviewkidscrusade@gmail.com or Facebook "Valley View Kids Crusade"
X-ALT-DESC;FMTTYPE=text/html:<p style="text-align: center\;"><strong><u><span style="font-family:arial black\,sans-serif\; font-size:14pt">Kid&rsquo\;s Crusade in Lake City starts Sunday July 12<sup>th</sup> &nbsp\;&nbsp\;<em>&nbsp\;</em></span></u></strong></p>\n\n<h1 style="text-align: center\;">The entire family is invited to 4 fun filled evenings at the annual Kid&rsquo\;s Crusade at Valley View Assembly of God church in Lake City starting Sunday July 12<sup>th</sup> at 7 PM. &nbsp\;Brian and Vicki Cockerham of 2Talk42 Ministries from West Monroe\, LA will share the gospel through ventriloquism\, puppets\, characters\, and music. &nbsp\;Each night will include a new program\, door prizes donated from local businesses and treats. &nbsp\;Kids\, age three through last year&rsquo\;s 6<sup>th</sup> grade register for door prizes. Families are encouraged to attend with their children\; and children age 5 and under <u>must</u> be accompanied by an adult<em>. </em>A free will offering will be received.&nbsp\;</h1>\n\n<p style="text-align: center\;"><span style="font-size:14pt">Don&rsquo\;t miss one night of inspirational fun beginning </span></p>\n\n<p style="text-align: center\;"><strong><span style="font-size:14pt">Sunday\, July 12<sup>th</sup> through Wednesday\, July 15th<sup>th</sup> from 7:00 &ndash\; 8:30 PM </span></strong></p>\n\n<p style="text-align: center\;"><span style="font-size:14pt">at the Valley View Assembly of God Church</span></p>\n\n<p style="text-align: center\;"><span style="font-size:14pt">&nbsp\;&nbsp\;&nbsp\;&nbsp\;&nbsp\;&nbsp\;&nbsp\;&nbsp\; 305 W. Grant St. (Goodhue Co. 5)\, Lake City\, MN</span></p>\n\n<p style="text-align: center\;"><span style="font-size:14pt">One block from the Lake City Medical Center</span></p>\n\n<p style="text-align: center\;"><span style="font-size:14pt">The Crusade is fun <em>and i</em>t&rsquo\;s free!</span></p>\n\n<p>&nbsp\;&nbsp\;&nbsp\;&nbsp\;&nbsp\;&nbsp\;&nbsp\;&nbsp\; For more information call the church office at 651-345-3432 or email <a href="mailto:valleyviewkidscrusade@gmail.com">valleyviewkidscrusade@gmail.com</a> or Facebook &ldquo\;Valley View Kids Crusade&rdquo\;</p>\n
LOCATION:Valley View Assembly of God 305 West Grant Lake City\, MN
UID:e.621.4459
SEQUENCE:3
DTSTAMP:20260424T225425Z
URL:https://public.lakecity.org/events/details/valley-view-kid-s-crusade-07-15-2015-4459
END:VEVENT

END:VCALENDAR
