BEGIN:VCALENDAR
VERSION:2.0
PRODID:-//ChamberMaster//Event Calendar 2.0//EN
METHOD:PUBLISH
X-PUBLISHED-TTL:P3D
REFRESH-INTERVAL:P3D
CALSCALE:GREGORIAN
BEGIN:VEVENT
DTSTART;VALUE=DATE:20161111
DTEND;VALUE=DATE:20161112
TRANSP:TRANSPARENT
X-MICROSOFT-CDO-ALLDAYEVENT:TRUE
SUMMARY:Veteran's Day Events
DESCRIPTION:10:00 AM St Johns church gym\n\n                        12:30 PM at Lincoln high school gym\n\n                         3:00 PM at the Bluffs/Nursing Home - Flag & memorial dedication
X-ALT-DESC;FMTTYPE=text/html:&nbsp\;&nbsp\;&nbsp\;&nbsp\;&nbsp\;&nbsp\;&nbsp\;&nbsp\;&nbsp\;&nbsp\;&nbsp\;&nbsp\;&nbsp\;&nbsp\;&nbsp\;&nbsp\;&nbsp\;&nbsp\;&nbsp\;&nbsp\;&nbsp\;&nbsp\;&nbsp\;&nbsp\;<span style="font-family:helvetica\,sans-serif\;"><span style="font-size:10pt\;">10:00 AM St Johns church gym</span></span><br />\n<span style="font-family:helvetica\,sans-serif\;"><span style="font-size:10pt\;">&nbsp\;&nbsp\;&nbsp\;&nbsp\;&nbsp\;&nbsp\;&nbsp\;&nbsp\;&nbsp\;&nbsp\;&nbsp\;&nbsp\;&nbsp\;&nbsp\;&nbsp\;&nbsp\;&nbsp\;&nbsp\;&nbsp\;&nbsp\;&nbsp\;&nbsp\;&nbsp\;&nbsp\;12:30 PM at Lincoln high school gym</span></span><br />\n<span style="font-family:helvetica\,sans-serif\;"><span style="font-size:10pt\;">&nbsp\;&nbsp\;&nbsp\;&nbsp\;&nbsp\;&nbsp\;&nbsp\;&nbsp\;&nbsp\;&nbsp\;&nbsp\;&nbsp\;&nbsp\;&nbsp\;&nbsp\;&nbsp\;&nbsp\;&nbsp\;&nbsp\;&nbsp\;&nbsp\;&nbsp\;&nbsp\;&nbsp\;&nbsp\;3:00 PM at the Bluffs/Nursing Home - Flag &amp\; memorial dedication</span></span>
LOCATION:
UID:e.621.5496
SEQUENCE:3
DTSTAMP:20260422T101339Z
URL:https://public.lakecity.org/events/details/veteran-s-day-events-5496
END:VEVENT

END:VCALENDAR
