BEGIN:VCALENDAR
VERSION:2.0
PRODID:-//ChamberMaster//Event Calendar 2.0//EN
METHOD:PUBLISH
X-PUBLISHED-TTL:P3D
REFRESH-INTERVAL:P3D
CALSCALE:GREGORIAN
BEGIN:VEVENT
DTSTART:20151111T160000Z
DTEND:20151111T220000Z
X-MICROSOFT-CDO-ALLDAYEVENT:FALSE
SUMMARY:Veterans Day at The Bluffs of Lake City
DESCRIPTION:You are invited to: Veterans Day at The Bluffs of Lake City WEDNESDAY\, NOVEMBER 11TH\, 2015 10:00 a.m. Veterans Benefits Presentation Featuring Tracy Crouse\, Veteran Service Officer from Wabasha County. 12:00 p.m. S.O.S. Military Lunch 1:30 p.m. Military Memorabilia Exhibit 2:30 p.m. Veterans Day Ceremony A ceremony recognizing Service Members and Veterans\, featuring an Honor Guard and presentation to a Gold Star Family ? The Hebert Family. Followed by refreshments. Veterans: Please wear your military uniform to this special event and bring any memorabilia you wish to be displayed in our exhibit for the day by 10:00 a.m.
X-ALT-DESC;FMTTYPE=text/html:You are invited to: Veterans Day at The Bluffs of Lake City WEDNESDAY\, NOVEMBER 11TH\, 2015 10:00 a.m. Veterans Benefits Presentation Featuring Tracy Crouse\, Veteran Service Officer from Wabasha County. 12:00 p.m. S.O.S. Military Lunch 1:30 p.m. Military Memorabilia Exhibit 2:30 p.m. Veterans Day Ceremony A ceremony recognizing Service Members and Veterans\, featuring an Honor Guard and presentation to a Gold Star Family ? The Hebert Family. Followed by refreshments. Veterans: Please wear your military uniform to this special event and bring any memorabilia you wish to be displayed in our exhibit for the day by 10:00 a.m.
LOCATION:The Bluffs of Lake City 480 West Grant Street Lake City\, MN 55041 651-448-8333
UID:e.621.4523
SEQUENCE:3
DTSTAMP:20260424T153848Z
URL:https://public.lakecity.org/events/details/veterans-day-at-the-bluffs-of-lake-city-11-11-2015-4523
END:VEVENT

END:VCALENDAR
