BEGIN:VCALENDAR
VERSION:2.0
PRODID:-//ChamberMaster//Event Calendar 2.0//EN
METHOD:PUBLISH
X-PUBLISHED-TTL:P3D
REFRESH-INTERVAL:P3D
CALSCALE:GREGORIAN
BEGIN:VEVENT
DTSTART:20170909T150000Z
DTEND:20170909T200000Z
X-MICROSOFT-CDO-ALLDAYEVENT:FALSE
SUMMARY:VFW 8729 Auxiliary Junk Crush Bake Sale
DESCRIPTION:The Lake City VFW Post 8729 Auxiliary will be having their fall bake sale and luncheon on Saturday\, September 9th in association with Junk Crush. Lots of homemade goodies to take home as well as Sloppy Joe Lunch available.\n\n\n\nHelp us to support or Veterans and bring home some fresh baked goodies!
X-ALT-DESC;FMTTYPE=text/html:The Lake City VFW Post 8729 Auxiliary will be having their fall bake sale and luncheon on Saturday\, September 9th in association with Junk Crush. Lots of homemade goodies to take home as well as Sloppy Joe Lunch available.<br />\n<br />\nHelp us to support or Veterans and bring home some fresh baked goodies!
LOCATION:VFW 115 N. Franklin Streret Lake City\, MN 55041
UID:e.621.5768
SEQUENCE:3
DTSTAMP:20260421T183707Z
URL:https://public.lakecity.org/events/details/vfw-8729-auxiliary-junk-crush-bake-sale-5768
END:VEVENT

END:VCALENDAR
