BEGIN:VCALENDAR
VERSION:2.0
PRODID:-//ChamberMaster//Event Calendar 2.0//EN
METHOD:PUBLISH
X-PUBLISHED-TTL:P3D
REFRESH-INTERVAL:P3D
CALSCALE:GREGORIAN
BEGIN:VEVENT
DTSTART:20161119T150000Z
DTEND:20161119T220000Z
X-MICROSOFT-CDO-ALLDAYEVENT:FALSE
SUMMARY:VFW Auxiliary Annual Holiday Bazaar
DESCRIPTION:Santa Says... Do your shopping at the Annual Holiday Bazaar at the VFW Post 8729. Craft Sale 9 am to noon Vendor Sale 1 pm to 4 pm PROCEEDS TO BENEFIT AREA SCHOLARSHIP FUND. Basket Raffle (excepting donations from area businesses) PROCEEDS TO BENEFIT LOCAL VETERANS Lunch available 11-4
X-ALT-DESC;FMTTYPE=text/html:Santa Says... Do your shopping at the Annual Holiday Bazaar at the VFW Post 8729. Craft Sale 9 am to noon Vendor Sale 1 pm to 4 pm PROCEEDS TO BENEFIT AREA SCHOLARSHIP FUND. Basket Raffle (excepting donations from area businesses) PROCEEDS TO BENEFIT LOCAL VETERANS Lunch available 11-4
LOCATION:VFW POST 8729 Franklin Street\, Lake City
UID:e.621.5485
SEQUENCE:3
DTSTAMP:20260422T101523Z
URL:https://public.lakecity.org/events/details/vfw-auxiliary-annual-holiday-bazaar-5485
END:VEVENT

END:VCALENDAR
