BEGIN:VCALENDAR
VERSION:2.0
PRODID:-//ChamberMaster//Event Calendar 2.0//EN
METHOD:PUBLISH
X-PUBLISHED-TTL:P3D
REFRESH-INTERVAL:P3D
CALSCALE:GREGORIAN
BEGIN:VEVENT
DTSTART:20160910T140000Z
DTEND:20160910T180000Z
X-MICROSOFT-CDO-ALLDAYEVENT:FALSE
SUMMARY:VFW Auxiliary Bake Sale
DESCRIPTION:VFW Auxiliary will be having a fall themed Bake Sale. Join us for homemade apple pie by the slice. Take home some fresh baked goodies. Pies\, cakes\, cookies\, bars & breads. We will also be serving lunch from 11-1. Follow your nose from Junk Crush to fresh baked goodies. All proceeds go to help our Veterans.
X-ALT-DESC;FMTTYPE=text/html:VFW Auxiliary will be having a fall themed Bake Sale. Join us for homemade apple pie by the slice. Take home some fresh baked goodies. Pies\, cakes\, cookies\, bars &amp\; breads. We will also be serving lunch from 11-1. Follow your nose from Junk Crush to fresh baked goodies. All proceeds go to help our Veterans.
LOCATION:VFW Post 8729- Lake City
UID:e.621.5410
SEQUENCE:3
DTSTAMP:20260422T132007Z
URL:https://public.lakecity.org/events/details/vfw-auxiliary-bake-sale-09-10-2016-5410
END:VEVENT

END:VCALENDAR
