BEGIN:VCALENDAR
VERSION:2.0
PRODID:-//ChamberMaster//Event Calendar 2.0//EN
METHOD:PUBLISH
X-PUBLISHED-TTL:P3D
REFRESH-INTERVAL:P3D
CALSCALE:GREGORIAN
BEGIN:VEVENT
DTSTART:20160507T130000Z
DTEND:20160507T210000Z
X-MICROSOFT-CDO-ALLDAYEVENT:FALSE
SUMMARY:VFW Auxiliary Garage Sale
DESCRIPTION:GARAGE SALE Proceeds to benefit Veterans Programs. Lots of items a little bit of everything and little something for everyone. Lunch will be available for $4.00 Sloppy Joes\, Chips & Pickles.
X-ALT-DESC;FMTTYPE=text/html:GARAGE SALE Proceeds to benefit Veterans Programs. Lots of items a little bit of everything and little something for everyone. Lunch will be available for $4.00 Sloppy Joes\, Chips &amp\; Pickles.
LOCATION:VFW Club 115 Franklin Street North Lake City\, MN
UID:e.621.5234
SEQUENCE:3
DTSTAMP:20260422T200008Z
URL:https://public.lakecity.org/events/details/vfw-auxiliary-garage-sale-05-07-2016-5234
END:VEVENT

END:VCALENDAR
