BEGIN:VCALENDAR
VERSION:2.0
PRODID:-//ChamberMaster//Event Calendar 2.0//EN
METHOD:PUBLISH
X-PUBLISHED-TTL:P3D
REFRESH-INTERVAL:P3D
CALSCALE:GREGORIAN
BEGIN:VEVENT
DTSTART:20170502T000000Z
DTEND:20170502T010000Z
X-MICROSOFT-CDO-ALLDAYEVENT:FALSE
SUMMARY:VFW Auxiliary Meeting
DESCRIPTION:Regular Meeting Night - Installation of Officers
X-ALT-DESC;FMTTYPE=text/html:<strong>Regular Meeting Night - Installation of Officers</strong>
LOCATION:VFW Post 8729 - 115 Franklin Street - Lake City MN 55041
UID:e.621.5722
SEQUENCE:3
DTSTAMP:20260422T010612Z
URL:https://public.lakecity.org/events/details/vfw-auxiliary-meeting-5722
END:VEVENT

END:VCALENDAR
