BEGIN:VCALENDAR
VERSION:2.0
PRODID:-//ChamberMaster//Event Calendar 2.0//EN
METHOD:PUBLISH
X-PUBLISHED-TTL:P3D
REFRESH-INTERVAL:P3D
CALSCALE:GREGORIAN
BEGIN:VEVENT
DTSTART:20170505T130000Z
DTEND:20170506T210000Z
X-MICROSOFT-CDO-ALLDAYEVENT:FALSE
SUMMARY:VFW Post 8729 Auxiliary Garage Sale
DESCRIPTION:VFW Auxiliary 8729 Garage Sale\n\nAll proceeds from the Garage Sale will go to Veterans Programs. We will have a ton of goodies for you to shop. Enjoy lunch and a refreshment while shopping our great deals.
X-ALT-DESC;FMTTYPE=text/html:<p><span style="font-family:tahoma\;"><strong>VFW Auxiliary 8729 Garage Sale</strong></span></p>\n\n<p><span style="font-family:tahoma\;">All proceeds from the Garage Sale will go to Veterans Programs. We will have a ton of goodies for you to shop. Enjoy lunch and a refreshment while shopping our great deals.</span></p>\n
LOCATION:VFW Post 8729 - 115 Franklin Street - Lake City\, MN 55041
UID:e.621.5721
SEQUENCE:3
DTSTAMP:20260422T011215Z
URL:https://public.lakecity.org/events/details/vfw-post-8729-auxiliary-garage-sale-5721
END:VEVENT

END:VCALENDAR
