BEGIN:VCALENDAR
VERSION:2.0
PRODID:-//ChamberMaster//Event Calendar 2.0//EN
METHOD:PUBLISH
X-PUBLISHED-TTL:P3D
REFRESH-INTERVAL:P3D
CALSCALE:GREGORIAN
BEGIN:VEVENT
DTSTART:20141129T190000Z
DTEND:20141130T030000Z
X-MICROSOFT-CDO-ALLDAYEVENT:FALSE
SUMMARY:Villa Maria Festival of Lights
DESCRIPTION:Open House -- View the International Nativity Collection -- 1-5:00 p.m. Over 1\,200 Luminaries Lit\, Concert 7:00 p.m. followed by Dessert Buffet Tickets $25 (for Concert & Buffet)
X-ALT-DESC;FMTTYPE=text/html:Open House -- View the International Nativity Collection -- 1-5:00 p.m. Over 1\,200 Luminaries Lit\, Concert 7:00 p.m. followed by Dessert Buffet Tickets $25 (for Concert &amp\; Buffet)
LOCATION:29847 County 2 Blvd.\, Frontenac\, MN 55026
UID:e.621.4284
SEQUENCE:3
DTSTAMP:20260425T112605Z
URL:https://public.lakecity.org/events/details/villa-maria-festival-of-lights-11-29-2014-4284
END:VEVENT

END:VCALENDAR
