BEGIN:VCALENDAR
VERSION:2.0
PRODID:-//ChamberMaster//Event Calendar 2.0//EN
METHOD:PUBLISH
X-PUBLISHED-TTL:P3D
REFRESH-INTERVAL:P3D
CALSCALE:GREGORIAN
BEGIN:VEVENT
DTSTART:20140817T180000Z
DTEND:20140817T210000Z
X-MICROSOFT-CDO-ALLDAYEVENT:FALSE
SUMMARY:Villa Maria Homecoming and Open House
DESCRIPTION:You and Your Family Are Invited to Villa Maria's Homecoming and Open House for Root Beer Floats\, Self-Guided Walking Tours\, School and Historical Memorabilia and Entertainment. Gift Shop will be open\, too!
X-ALT-DESC;FMTTYPE=text/html:You and Your Family Are Invited to Villa Maria&#39\;s Homecoming and Open House for Root Beer Floats\, Self-Guided Walking Tours\, School and Historical Memorabilia and Entertainment. Gift Shop will be open\, too!
LOCATION:Villa Maria Grounds\, 29847 County 2 Blvd.\, Frontenac\, MN 55026-1052
UID:e.621.4034
SEQUENCE:3
DTSTAMP:20260425T142821Z
URL:https://public.lakecity.org/events/details/villa-maria-homecoming-and-open-house-08-17-2014-4034
END:VEVENT

END:VCALENDAR
