BEGIN:VCALENDAR
VERSION:2.0
PRODID:-//ChamberMaster//Event Calendar 2.0//EN
METHOD:PUBLISH
X-PUBLISHED-TTL:P3D
REFRESH-INTERVAL:P3D
CALSCALE:GREGORIAN
BEGIN:VEVENT
DTSTART:20150816T180000Z
DTEND:20150816T210000Z
X-MICROSOFT-CDO-ALLDAYEVENT:FALSE
SUMMARY:Villa Maria's Homecoming and Community Open House
DESCRIPTION:?Special Guests: Peggy Busby\, Sr. Rosemary Meiman\, Sr. Miriam Patricia\, Sr. Theresa Sarich Program at 2:00 p.m. ?Entertainment: Ray Sands and The Polka Dots (local band) and David Olson\, Balloon Artist ?Root Beer Floats ?Tours of Marian Hall and Camp ?School Memorabilia on Display ? Class of ?65 ? 50th Class Reunion
X-ALT-DESC;FMTTYPE=text/html:?Special Guests: Peggy Busby\, Sr. Rosemary Meiman\, Sr. Miriam Patricia\, Sr. Theresa Sarich Program at 2:00 p.m. ?Entertainment: Ray Sands and The Polka Dots (local band) and David Olson\, Balloon Artist ?Root Beer Floats ?Tours of Marian Hall and Camp ?School Memorabilia on Display ? Class of ?65 ? 50th Class Reunion
LOCATION:29847 County 2 Blvd. Frontenac\, MN 55026
UID:e.621.4472
SEQUENCE:3
DTSTAMP:20260424T201234Z
URL:https://public.lakecity.org/events/details/villa-maria-s-homecoming-and-community-open-house-08-16-2015-4472
END:VEVENT

END:VCALENDAR
