BEGIN:VCALENDAR
VERSION:2.0
PRODID:-//ChamberMaster//Event Calendar 2.0//EN
METHOD:PUBLISH
X-PUBLISHED-TTL:P3D
REFRESH-INTERVAL:P3D
CALSCALE:GREGORIAN
BEGIN:VEVENT
DTSTART;VALUE=DATE:20170719
DTEND;VALUE=DATE:20170723
TRANSP:TRANSPARENT
X-MICROSOFT-CDO-ALLDAYEVENT:TRUE
SUMMARY:Wabasha County Fair
DESCRIPTION:The Wabasha County Fair will be held July 19 to July 22. There are tons of activities for the young and old! A quick glimpse into events at the Fair:\n\n	Wednesday July 19th  - Pet show\, cat show\, poultry show\, rabbit show\, Wabasha 500 Power Wheels Car race\, and more!!!\n	Thursday July 20th - Swine show\, Riverland Polka Band\, Senior Citizen day\, beef show\, RAD ZOO\, Sheep and meat goat show\, Redneck Olympics\, Bobcat Rodeo\, Family Night and more!\n	Friday July 21st - Dairy goat show\, dairy show\, Funtime Functions & face painting\, Llama show\, Talent show\, The Chubs band\, Auto cross\, Fire show and more!!\n	Saturday July 22nd - Fun Run\, Bean Bag tournament\, YO-YO show\, Peddle Pull\, Human Foosball\, Generations band\, Demolitions derby and more!!!\n	Multiple days of the fair- 3rd Lair Skate Park Shows\, Minnow Races\, Christian Strutz - teenage comedian/ songwriter\, Inflatables $5 wristbands\, Hillbilly Science\, and more!!\n\nCome on out and check out this fun fair!! ADMISSION IS FREE!! Parking is $4 a day or $7 for a season pass!
X-ALT-DESC;FMTTYPE=text/html:The Wabasha County Fair will be held July 19 to&nbsp\;July 22. There are tons of activities for the young and old! A quick glimpse into events at the Fair:\n<ul>\n	<li><strong>Wednesday July 19th&#8203\;</strong>&nbsp\;-&nbsp\;Pet show\, cat show\, poultry show\, rabbit show\, Wabasha 500 Power Wheels Car race\, and more!!!</li>\n	<li><strong>Thursday July 20th&nbsp\;-</strong> Swine show\, Riverland Polka Band\, Senior Citizen day\, beef show\, RAD ZOO\, Sheep and meat goat show\, Redneck Olympics\, Bobcat Rodeo\, Family Night and more!</li>\n	<li><strong>Friday July 21st</strong>&nbsp\;- Dairy goat show\, dairy show\, Funtime Functions &amp\; face painting\, Llama show\, Talent show\, The Chubs band\, Auto cross\, Fire show and more!!</li>\n	<li><strong>Saturday July 22nd&nbsp\;</strong>- Fun Run\, Bean Bag tournament\, YO-YO show\, Peddle Pull\, Human Foosball\, Generations band\, Demolitions derby and more!!!</li>\n	<li>Multiple days of the fair- 3rd Lair Skate Park Shows\, Minnow Races\, Christian Strutz - teenage comedian/ songwriter\, Inflatables $5 wristbands\, Hillbilly Science\, and more!!</li>\n</ul>\nCome on out and check out this fun fair!! ADMISSION IS FREE!! Parking is $4 a day or $7 for a season pass!
LOCATION:99 Coulee Way Wabasha\, MN\, 55981
UID:e.621.5741
SEQUENCE:3
DTSTAMP:20260421T220103Z
URL:https://public.lakecity.org/events/details/wabasha-county-fair-5741
END:VEVENT

END:VCALENDAR
