BEGIN:VCALENDAR
VERSION:2.0
PRODID:-//ChamberMaster//Event Calendar 2.0//EN
METHOD:PUBLISH
X-PUBLISHED-TTL:P3D
REFRESH-INTERVAL:P3D
CALSCALE:GREGORIAN
BEGIN:VEVENT
DTSTART:20150625T210000Z
DTEND:20150626T020000Z
X-MICROSOFT-CDO-ALLDAYEVENT:FALSE
SUMMARY:Wabasha County Family NIght on the Farm
DESCRIPTION:The Wabasha County Family NIght on the Farm will be held at Klein's Cow Place LLC located at 69363 Wabasha County Road 2\, Lake City\, Minnesota. Free Shuttle service from Bluffview Elementary School\, 1156 West Lakewood Avenue\, Lake City will be from 4 - 9 PM\, departing every 30 minutes. A meal will be served from 4:30-8:30 PM or until gone for $5.00. Activities include tours of the milking parlor\, farm machinery display\, farm animal petting zoo\, kids activities and learning booths.
X-ALT-DESC;FMTTYPE=text/html:The Wabasha County Family NIght on the Farm will be held at Klein&#39\;s Cow Place LLC located at 69363 Wabasha County Road 2\, Lake City\, Minnesota. Free Shuttle service from Bluffview Elementary School\, 1156 West Lakewood Avenue\, Lake City will be from 4 - 9 PM\, departing every 30 minutes. A meal will be served from 4:30-8:30 PM or until gone for $5.00. Activities include tours of the milking parlor\, farm machinery display\, farm animal petting zoo\, kids activities and learning booths.
LOCATION:Klein's Cow Place LLC\, 69363 Wabasha County Road 2\, Lake City\, Minnesota
UID:e.621.4444
SEQUENCE:3
DTSTAMP:20260424T225711Z
URL:https://public.lakecity.org/events/details/wabasha-county-family-night-on-the-farm-06-25-2015-4444
END:VEVENT

END:VCALENDAR
