BEGIN:VCALENDAR
VERSION:2.0
PRODID:-//ChamberMaster//Event Calendar 2.0//EN
METHOD:PUBLISH
X-PUBLISHED-TTL:P3D
REFRESH-INTERVAL:P3D
CALSCALE:GREGORIAN
BEGIN:VEVENT
DTSTART:20160312T150000Z
DTEND:20160313T043000Z
X-MICROSOFT-CDO-ALLDAYEVENT:FALSE
SUMMARY:Wabasha County Historical Society
DESCRIPTION:Wabasha County Historical Society Meeting
X-ALT-DESC;FMTTYPE=text/html:Wabasha County Historical Society Meeting
LOCATION:Wabasha County Courthouse 625 Jefferson Ave. Wabasha\, MN
UID:e.621.4776
SEQUENCE:3
DTSTAMP:20260424T085340Z
URL:https://public.lakecity.org/events/details/wabasha-county-historical-society-03-12-2016-4776
END:VEVENT

END:VCALENDAR
