BEGIN:VCALENDAR
VERSION:2.0
PRODID:-//ChamberMaster//Event Calendar 2.0//EN
METHOD:PUBLISH
X-PUBLISHED-TTL:P3D
REFRESH-INTERVAL:P3D
CALSCALE:GREGORIAN
BEGIN:VEVENT
DTSTART:20160409T140000Z
DTEND:20160409T170000Z
X-MICROSOFT-CDO-ALLDAYEVENT:FALSE
SUMMARY:Wabasha County Historical Society
DESCRIPTION:Monthly meeting\, Prepare the museum for opening in mid-May
X-ALT-DESC;FMTTYPE=text/html:Monthly meeting\, Prepare the museum for opening in mid-May
LOCATION:Reads Landing School Museum
UID:e.621.5092
SEQUENCE:3
DTSTAMP:20260422T200227Z
URL:https://public.lakecity.org/events/details/wabasha-county-historical-society-04-09-2016-5092
END:VEVENT

END:VCALENDAR
