BEGIN:VCALENDAR
VERSION:2.0
PRODID:-//ChamberMaster//Event Calendar 2.0//EN
METHOD:PUBLISH
X-PUBLISHED-TTL:P3D
REFRESH-INTERVAL:P3D
CALSCALE:GREGORIAN
BEGIN:VEVENT
DTSTART:20160514T140000Z
DTEND:20160514T150000Z
X-MICROSOFT-CDO-ALLDAYEVENT:FALSE
SUMMARY:Wabasha County Historical Society
DESCRIPTION:Monthly meeting Opening for the season\, Saturdays and Sundays 1-4 PM.
X-ALT-DESC;FMTTYPE=text/html:Monthly meeting Opening for the season\, Saturdays and Sundays 1-4 PM.
LOCATION:Reads Landing School Museum
UID:e.621.5237
SEQUENCE:3
DTSTAMP:20260422T182921Z
URL:https://public.lakecity.org/events/details/wabasha-county-historical-society-05-14-2016-5237
END:VEVENT

END:VCALENDAR
