BEGIN:VCALENDAR
VERSION:2.0
PRODID:-//ChamberMaster//Event Calendar 2.0//EN
METHOD:PUBLISH
X-PUBLISHED-TTL:P3D
REFRESH-INTERVAL:P3D
CALSCALE:GREGORIAN
BEGIN:VEVENT
DTSTART:20170520T180000Z
DTEND:20170521T210000Z
X-MICROSOFT-CDO-ALLDAYEVENT:FALSE
SUMMARY:Wabasha County Historical Society
DESCRIPTION:Wabasha County Historical Society announces opening weekend for the Reads Landing School Museum. Free admission all weekend with donations accepted. The museum will be open 1 to 4 p.m. Saturdays and Sundays through Oct. 15\, 2017. Visit and enjoy some of the refreshed displays.
X-ALT-DESC;FMTTYPE=text/html:Wabasha County Historical Society announces opening weekend for the Reads Landing School Museum. Free admission all weekend with donations accepted. The museum will be open 1 to 4 p.m. Saturdays and Sundays through Oct. 15\, 2017. Visit and enjoy some of the refreshed displays.
LOCATION:Reads Landing School Museum - Reads Landing\, MN
UID:e.621.5725
SEQUENCE:3
DTSTAMP:20260422T011359Z
URL:https://public.lakecity.org/events/details/wabasha-county-historical-society-05-20-2017-5725
END:VEVENT

END:VCALENDAR
