BEGIN:VCALENDAR
VERSION:2.0
PRODID:-//ChamberMaster//Event Calendar 2.0//EN
METHOD:PUBLISH
X-PUBLISHED-TTL:P3D
REFRESH-INTERVAL:P3D
CALSCALE:GREGORIAN
BEGIN:VEVENT
DTSTART:20160611T140000Z
DTEND:20160611T150000Z
X-MICROSOFT-CDO-ALLDAYEVENT:FALSE
SUMMARY:Wabasha County Historical Society
DESCRIPTION:Monthly meeting
X-ALT-DESC;FMTTYPE=text/html:Monthly meeting
LOCATION:Reads Landing School Museum
UID:e.621.5246
SEQUENCE:3
DTSTAMP:20260422T170306Z
URL:https://public.lakecity.org/events/details/wabasha-county-historical-society-06-11-2016-5246
END:VEVENT

END:VCALENDAR
