BEGIN:VCALENDAR
VERSION:2.0
PRODID:-//ChamberMaster//Event Calendar 2.0//EN
METHOD:PUBLISH
X-PUBLISHED-TTL:P3D
REFRESH-INTERVAL:P3D
CALSCALE:GREGORIAN
BEGIN:VEVENT
DTSTART:20160709T140000Z
DTEND:20160709T150000Z
X-MICROSOFT-CDO-ALLDAYEVENT:FALSE
SUMMARY:Wabasha County Historical Society
DESCRIPTION:Wabasha County Historical Meeting
X-ALT-DESC;FMTTYPE=text/html:Wabasha County Historical Meeting
LOCATION:Reads Landing School Museum
UID:e.621.5406
SEQUENCE:3
DTSTAMP:20260422T155411Z
URL:https://public.lakecity.org/events/details/wabasha-county-historical-society-07-09-2016-5406
END:VEVENT

END:VCALENDAR
