BEGIN:VCALENDAR
VERSION:2.0
PRODID:-//ChamberMaster//Event Calendar 2.0//EN
METHOD:PUBLISH
X-PUBLISHED-TTL:P3D
REFRESH-INTERVAL:P3D
CALSCALE:GREGORIAN
BEGIN:VEVENT
DTSTART:20160710T190000Z
DTEND:20160710T200000Z
X-MICROSOFT-CDO-ALLDAYEVENT:FALSE
SUMMARY:Wabasha County Historical Society
DESCRIPTION:Mike Davis\, DNR will present : Minnesota Native Mussels\, Little Known\, Yet Uniquely Valuable
X-ALT-DESC;FMTTYPE=text/html:Mike Davis\, DNR will present : Minnesota Native Mussels\, Little Known\, Yet Uniquely Valuable
LOCATION:Reads Landing School Museum Reads Landing\, MN
UID:e.621.5407
SEQUENCE:3
DTSTAMP:20260422T155333Z
URL:https://public.lakecity.org/events/details/wabasha-county-historical-society-07-10-2016-5407
END:VEVENT

END:VCALENDAR
