BEGIN:VCALENDAR
VERSION:2.0
PRODID:-//ChamberMaster//Event Calendar 2.0//EN
METHOD:PUBLISH
X-PUBLISHED-TTL:P3D
REFRESH-INTERVAL:P3D
CALSCALE:GREGORIAN
BEGIN:VEVENT
DTSTART:20161016T170000Z
DTEND:20161016T180000Z
X-MICROSOFT-CDO-ALLDAYEVENT:FALSE
SUMMARY:Wabasha County Historical Society
DESCRIPTION:Annual Meeting of the Wabasha County Historical Society
X-ALT-DESC;FMTTYPE=text/html:Annual Meeting of the Wabasha County Historical Society
LOCATION:Reads Landing School Museum
UID:e.621.5472
SEQUENCE:3
DTSTAMP:20260422T115356Z
URL:https://public.lakecity.org/events/details/wabasha-county-historical-society-10-16-2016-5472
END:VEVENT

END:VCALENDAR
