BEGIN:VCALENDAR
VERSION:2.0
PRODID:-//ChamberMaster//Event Calendar 2.0//EN
METHOD:PUBLISH
X-PUBLISHED-TTL:P3D
REFRESH-INTERVAL:P3D
CALSCALE:GREGORIAN
BEGIN:VEVENT
DTSTART:20141005T180000Z
DTEND:20141005T210000Z
X-MICROSOFT-CDO-ALLDAYEVENT:FALSE
SUMMARY:Wabasha County Historical Society presents "Antique Roadshow"
DESCRIPTION:Come join the Wabasha County Historical Society during its "Antique Roadshow." Expert appraisers will be present to evaluate your Antique and collectable treasures. Suggested items include: coins\, jewelry\, paintings\, prints\, glassware\, coin-operated machines\, vintage quilts
X-ALT-DESC;FMTTYPE=text/html:Come join the Wabasha County Historical Society during its &quot\;Antique Roadshow.&quot\; Expert appraisers will be present to evaluate your Antique and collectable treasures. Suggested items include: coins\, jewelry\, paintings\, prints\, glassware\, coin-operated machines\, vintage quilts
LOCATION:Wabasha County Museum\, Reads Landing\, MN
UID:e.621.4295
SEQUENCE:3
DTSTAMP:20260425T113256Z
URL:https://public.lakecity.org/events/details/wabasha-county-historical-society-presents-antique-roadshow-10-05-2014-4295
END:VEVENT

END:VCALENDAR
