BEGIN:VCALENDAR
VERSION:2.0
PRODID:-//ChamberMaster//Event Calendar 2.0//EN
METHOD:PUBLISH
X-PUBLISHED-TTL:P3D
REFRESH-INTERVAL:P3D
CALSCALE:GREGORIAN
BEGIN:VEVENT
DTSTART:20170610T150000Z
DTEND:20170610T200000Z
X-MICROSOFT-CDO-ALLDAYEVENT:FALSE
SUMMARY:Walk Into Local History with the Goodhue County Historical Society
DESCRIPTION:Learn the rich history of Frontenac: Native Americans inhabited the land for hundreds of years before the French established a fort near modern-day Frontenac\, and years after the French left\, the Garrard Family would shape Fontenac during the 19th Century. Hear the stories of the 19th Century Frontenac -- Embark on a walking tour of the exterior of a few of Frontenac's most famous homes.
X-ALT-DESC;FMTTYPE=text/html:Learn the rich history of Frontenac: Native Americans inhabited the land for hundreds of years before the French established a fort near modern-day Frontenac\, and years after the French left\, the Garrard Family would shape Fontenac during the 19th Century. Hear the stories of the 19th Century Frontenac -- Embark on a walking tour of the exterior of a few of Frontenac&#39\;s most famous homes.
LOCATION:Wakondiota Park 28952 Van Blarcum Avenue Frontentac\, MN 55026
UID:e.621.5731
SEQUENCE:3
DTSTAMP:20260421T233425Z
URL:https://public.lakecity.org/events/details/walk-into-local-history-with-the-goodhue-county-historical-society-5731
END:VEVENT

END:VCALENDAR
