BEGIN:VCALENDAR
VERSION:2.0
PRODID:-//ChamberMaster//Event Calendar 2.0//EN
METHOD:PUBLISH
X-PUBLISHED-TTL:P3D
REFRESH-INTERVAL:P3D
CALSCALE:GREGORIAN
BEGIN:VEVENT
DTSTART:20150524T140000Z
DTEND:20150524T220000Z
X-MICROSOFT-CDO-ALLDAYEVENT:FALSE
SUMMARY:Washington St. Arts Festival
DESCRIPTION:Washington St. Arts Festival
X-ALT-DESC;FMTTYPE=text/html:Washington St. Arts Festival
LOCATION:Washington St. Lake City MN 55041
UID:e.621.4353
SEQUENCE:3
DTSTAMP:20260425T002652Z
URL:https://public.lakecity.org/events/details/washington-st-arts-festival-05-24-2015-4353
END:VEVENT

END:VCALENDAR
