BEGIN:VCALENDAR
VERSION:2.0
PRODID:-//ChamberMaster//Event Calendar 2.0//EN
METHOD:PUBLISH
X-PUBLISHED-TTL:P3D
REFRESH-INTERVAL:P3D
CALSCALE:GREGORIAN
BEGIN:VEVENT
DTSTART;VALUE=DATE:20160624
DTEND;VALUE=DATE:20160627
TRANSP:TRANSPARENT
X-MICROSOFT-CDO-ALLDAYEVENT:TRUE
SUMMARY:Water Ski Days
DESCRIPTION:Three days of entertainment includes grand parade\, arts & crafts fair\, midway\, and much\, much more.
X-ALT-DESC;FMTTYPE=text/html:<span style="font: 14px/18px helvetica\, arial\, sans-serif\; text-align: left\; color: rgb(20\, 24\, 35)\; text-transform: none\; text-indent: 0px\; letter-spacing: normal\; word-spacing: 0px\; float: none\; display: inline !important\; white-space: normal\; widows: 1\; font-size-adjust: none\; font-stretch: normal\; background-color: rgb(255\, 255\, 255)\; -webkit-text-stroke-width: 0px\;">Three days of entertainment includes grand parade\, arts &amp\; crafts fair\, midway\, and much\, much more.</span>
LOCATION:
UID:e.621.4534
SEQUENCE:3
DTSTAMP:20260422T170030Z
URL:https://public.lakecity.org/events/details/water-ski-days-06-24-2016-4534
END:VEVENT

END:VCALENDAR
