BEGIN:VCALENDAR
VERSION:2.0
PRODID:-//ChamberMaster//Event Calendar 2.0//EN
METHOD:PUBLISH
X-PUBLISHED-TTL:P3D
REFRESH-INTERVAL:P3D
CALSCALE:GREGORIAN
BEGIN:VEVENT
DTSTART:20170623T180000Z
DTEND:20170624T030000Z
X-MICROSOFT-CDO-ALLDAYEVENT:FALSE
SUMMARY:Water Ski Days - Family Day at the Carnival
DESCRIPTION:Family Day at the Carnival with Gold Star Amusements
X-ALT-DESC;FMTTYPE=text/html:Family Day at the Carnival with Gold Star Amusements
LOCATION:Downtown Lake City
UID:e.621.5733
SEQUENCE:3
DTSTAMP:20260421T233949Z
URL:https://public.lakecity.org/events/details/water-ski-days-family-day-at-the-carnival-5733
END:VEVENT

END:VCALENDAR
