BEGIN:VCALENDAR
VERSION:2.0
PRODID:-//ChamberMaster//Event Calendar 2.0//EN
METHOD:PUBLISH
X-PUBLISHED-TTL:P3D
REFRESH-INTERVAL:P3D
CALSCALE:GREGORIAN
BEGIN:VEVENT
DTSTART:20161016T190000Z
DTEND:20161016T200000Z
X-MICROSOFT-CDO-ALLDAYEVENT:FALSE
SUMMARY:Water/Ways\, A Tale of 3 River Towns\, Red Wing\, Reads Landing & Winona
DESCRIPTION:Presentation of the Water/Ways of three River Towns\, Red Wing\, Reads Landing & Winona Open House to follow.
X-ALT-DESC;FMTTYPE=text/html:Presentation of the Water/Ways of three River Towns\, Red Wing\, Reads Landing &amp\; Winona Open House to follow.
LOCATION:Reads Landing School Museum
UID:e.621.5473
SEQUENCE:3
DTSTAMP:20260422T115737Z
URL:https://public.lakecity.org/events/details/water-ways-a-tale-of-3-river-towns-red-wing-reads-landing-winona-5473
END:VEVENT

END:VCALENDAR
