BEGIN:VCALENDAR
VERSION:2.0
PRODID:-//ChamberMaster//Event Calendar 2.0//EN
METHOD:PUBLISH
X-PUBLISHED-TTL:P3D
REFRESH-INTERVAL:P3D
CALSCALE:GREGORIAN
BEGIN:VEVENT
DTSTART;VALUE=DATE:20170311
DTEND;VALUE=DATE:20170312
TRANSP:TRANSPARENT
X-MICROSOFT-CDO-ALLDAYEVENT:TRUE
SUMMARY:Watercolor Workshop
DESCRIPTION:David R. Smith\, a nationally recognized watercolor artist\, will hold an all day workshop on creating vibrant florals in watercolor.
X-ALT-DESC;FMTTYPE=text/html:David R. Smith\, a nationally recognized watercolor artist\, will hold an all day workshop on creating vibrant florals in watercolor.
LOCATION:AmericInn
UID:e.621.5661
SEQUENCE:3
DTSTAMP:20260422T055457Z
URL:https://public.lakecity.org/events/details/watercolor-workshop-5661
END:VEVENT

END:VCALENDAR
