BEGIN:VCALENDAR
VERSION:2.0
PRODID:-//ChamberMaster//Event Calendar 2.0//EN
METHOD:PUBLISH
X-PUBLISHED-TTL:P3D
REFRESH-INTERVAL:P3D
CALSCALE:GREGORIAN
BEGIN:VEVENT
DTSTART:20161006T230000Z
DTEND:20161209T000000Z
X-MICROSOFT-CDO-ALLDAYEVENT:FALSE
SUMMARY:Watercolors for Beginners
DESCRIPTION:This is a beginning watercolors class for community members ages 13 and up. Artist Pat Swanson will provide tips and guidance to help participants learn how to create their own beautiful works of art!
X-ALT-DESC;FMTTYPE=text/html:This is a beginning watercolors class for community members ages 13 and up. Artist Pat Swanson will provide tips and guidance to help participants learn how to create their own beautiful works of art!
LOCATION:Lake City Public Library
UID:e.621.5468
SEQUENCE:3
DTSTAMP:20260422T084530Z
URL:https://public.lakecity.org/events/details/watercolors-for-beginners-5468
END:VEVENT

END:VCALENDAR
