BEGIN:VCALENDAR
VERSION:2.0
PRODID:-//ChamberMaster//Event Calendar 2.0//EN
METHOD:PUBLISH
X-PUBLISHED-TTL:P3D
REFRESH-INTERVAL:P3D
CALSCALE:GREGORIAN
BEGIN:VEVENT
DTSTART:20150409T233000Z
DTEND:20150410T003000Z
X-MICROSOFT-CDO-ALLDAYEVENT:FALSE
SUMMARY:Weather Bureau Class
DESCRIPTION:Join the National Weather Service for an upcoming storm spotter training class in Lake City\, MN.  It will be on April 9th at the American Legion\, starting at 6:30 p.m.
X-ALT-DESC;FMTTYPE=text/html:<span style="font-size: 14px\;"><span style="font-family: arial\;">Join the <span style="color: black\; mso-fareast-font-family: Calibri\; mso-fareast-theme-font: minor-latin\; mso-ansi-language: EN-US\; mso-fareast-language: EN-US\; mso-bidi-language: AR-SA\;">National Weather Service for </span><span style="color: black\;">an upcoming storm spotter training class in Lake City\, MN.&nbsp\; It will be on April 9th at the American Legion\, starting at 6:30 p.m.</span></span></span><br />\n&nbsp\;
LOCATION:
UID:e.621.4395
SEQUENCE:3
DTSTAMP:20260425T031546Z
URL:https://public.lakecity.org/events/details/weather-bureau-class-04-09-2015-4395
END:VEVENT

END:VCALENDAR
