BEGIN:VCALENDAR
VERSION:2.0
PRODID:-//ChamberMaster//Event Calendar 2.0//EN
METHOD:PUBLISH
X-PUBLISHED-TTL:P3D
REFRESH-INTERVAL:P3D
CALSCALE:GREGORIAN
BEGIN:VEVENT
DTSTART:20160416T150000Z
DTEND:20160416T160000Z
X-MICROSOFT-CDO-ALLDAYEVENT:FALSE
SUMMARY:Wellness Event\; : "Be still and know that I am God"
DESCRIPTION:The Health and Wellness Ministry team is inviting all women in the community to a Wellness presentation on April 16th at 10 AM at First Lutheran entitled\; Be still and know that I am God? from Psalm 46:10. The presenter\, Julie Woodruff\, will speak to the distractions\, ruminations\, multitasking and stress that cause us to live in the past or the future\, seldom in the present. Julie Woodruff has a Master?s Degree in Nursing and has spent her career working in the wellness arena with expertise in tobacco cessation\, lifestyle behavior change\, the power of positive thinking and stress management. The session will provide practical ways to respond to stressors through pray\, mediation\, forgiveness\, expressing gratitude and mindfulness practices. Fellowship/coffee hour will follow the presentation. A $5 donation is requested for the event
X-ALT-DESC;FMTTYPE=text/html:The Health and Wellness Ministry team is inviting all women in the community to a Wellness presentation on April 16th at 10 AM at First Lutheran entitled\; Be still and know that I am God? from Psalm 46:10. The presenter\, Julie Woodruff\, will speak to the distractions\, ruminations\, multitasking and stress that cause us to live in the past or the future\, seldom in the present. Julie Woodruff has a Master?s Degree in Nursing and has spent her career working in the wellness arena with expertise in tobacco cessation\, lifestyle behavior change\, the power of positive thinking and stress management. The session will provide practical ways to respond to stressors through pray\, mediation\, forgiveness\, expressing gratitude and mindfulness practices. Fellowship/coffee hour will follow the presentation. A $5 donation is requested for the event
LOCATION:First Lutheran Church 100 Peace Ridge Lake City\, MN
UID:e.621.4787
SEQUENCE:3
DTSTAMP:20260422T200007Z
URL:https://public.lakecity.org/events/details/wellness-event-be-still-and-know-that-i-am-god-04-16-2016-4787
END:VEVENT

END:VCALENDAR
