BEGIN:VCALENDAR
VERSION:2.0
PRODID:-//ChamberMaster//Event Calendar 2.0//EN
METHOD:PUBLISH
X-PUBLISHED-TTL:P3D
REFRESH-INTERVAL:P3D
CALSCALE:GREGORIAN
BEGIN:VEVENT
DTSTART:20160624T140000Z
DTEND:20160626T220000Z
X-MICROSOFT-CDO-ALLDAYEVENT:FALSE
SUMMARY:Wild Wings Tent Sale
DESCRIPTION:Join us for our Annual Tent Sale! Save on Apparel\, Home Accents\, Framed Prints\, Catalog Samples Scratch & Dent Products\, Wrapped Canvases\, Overstocks & More!
X-ALT-DESC;FMTTYPE=text/html:Join us for our Annual Tent Sale! Save on Apparel\, Home Accents\, Framed Prints\, Catalog Samples Scratch &amp\; Dent Products\, Wrapped Canvases\, Overstocks &amp\; More!
LOCATION:2101 S Hwy 61 Lake City\, Minnesota
UID:e.621.5229
SEQUENCE:3
DTSTAMP:20260422T170402Z
URL:https://public.lakecity.org/events/details/wild-wings-tent-sale-06-24-2016-5229
END:VEVENT

END:VCALENDAR
