BEGIN:VCALENDAR
VERSION:2.0
PRODID:-//ChamberMaster//Event Calendar 2.0//EN
METHOD:PUBLISH
X-PUBLISHED-TTL:P3D
REFRESH-INTERVAL:P3D
CALSCALE:GREGORIAN
BEGIN:VEVENT
DTSTART:20140315T210000Z
DTEND:20140316T010000Z
X-MICROSOFT-CDO-ALLDAYEVENT:FALSE
SUMMARY:Wings & Brew Fest
DESCRIPTION:The 3rd Annual Wings & Brew Fest is just around the corner! Wings & Brew Fest is a premier craft beer tasting event! At Wings & Brew Fest you can sample beers from many different brewers\, chicken wings from local restaurants and shop vendors with items that compliment both Wings & Brew! People's Choice decides who has the "Best Brew" and the "Best Wings" at the Fest! We hope you will join us for this fun event!  Cheers!
X-ALT-DESC;FMTTYPE=text/html:The 3rd Annual Wings &amp\; Brew Fest is just around the corner! Wings &amp\; Brew Fest is a premier craft beer tasting event! At Wings &amp\; Brew Fest you can sample beers from many different brewers\, chicken wings from local restaurants and shop vendors with items that compliment both Wings &amp\; Brew! People&#39\;s Choice decides who has the &quot\;Best Brew&quot\; and the &quot\;Best Wings&quot\; at the Fest! We hope you will join us for this fun event!&nbsp\; Cheers!
LOCATION:Treasure Island Resort & Casino
UID:e.621.3403
SEQUENCE:3
DTSTAMP:20260425T222950Z
URL:https://public.lakecity.org/events/details/wings-brew-fest-03-15-2014-3403
END:VEVENT

END:VCALENDAR
